BEGIN:VCALENDAR
VERSION:2.0
PRODID:-//Hailey Dickert - Author - ECPv6.11.2//NONSGML v1.0//EN
CALSCALE:GREGORIAN
METHOD:PUBLISH
X-ORIGINAL-URL:https://haileydickert.com
X-WR-CALDESC:Events for Hailey Dickert - Author
REFRESH-INTERVAL;VALUE=DURATION:PT1H
X-Robots-Tag:noindex
X-PUBLISHED-TTL:PT1H
BEGIN:VTIMEZONE
TZID:UTC
BEGIN:STANDARD
TZOFFSETFROM:+0000
TZOFFSETTO:+0000
TZNAME:UTC
DTSTART:20250101T000000
END:STANDARD
END:VTIMEZONE
BEGIN:VEVENT
DTSTART;VALUE=DATE:20251121
DTEND;VALUE=DATE:20251123
DTSTAMP:20260421T142253
CREATED:20250320T151422Z
LAST-MODIFIED:20250320T151444Z
UID:699-1763683200-1763855999@haileydickert.com
SUMMARY:Hailey Dickert @ Love & Tech Book Fest (Silicon Valley)
DESCRIPTION:
URL:https://haileydickert.com/event/hailey-dickert-love-and-tech/
LOCATION:Hyatt Regency Santa Clara
END:VEVENT
END:VCALENDAR